BEGIN:VCALENDAR
VERSION:2.0
PRODID:-//wp-events-plugin.com//7.2.3.1//EN
TZID:Europe/Berlin
X-WR-TIMEZONE:Europe/Berlin
BEGIN:VEVENT
UID:9865@elia-kirchengemeinde.de
DTSTART;TZID=Europe/Berlin:20260423T193000
DTEND;TZID=Europe/Berlin:20260423T200000
DTSTAMP:20241229T120240Z
URL:https://www.elia-kirchengemeinde.de/veranstaltungen/friedensgebet-2-20
 26-04-23/
SUMMARY:Friedensgebet
DESCRIPTION:Wir beten für Frieden in der Ukraine und in der Welt.\n\nDiese
  Veranstaltung findet jeden Donnerstag um 19:30 Uhr statt - vorerst bis Kr
 iegsende in der Ukraine.
ATTACH;FMTTYPE=image/jpeg:https://www.elia-kirchengemeinde.de/wp-content/u
 ploads/2020-02_Friedensgebet-Bild.jpg
CATEGORIES:Allgemein
LOCATION:Elia-Kirche\, Konrad-Adenauer-Str. 33\, Langenhagen\, Niedersachse
 n\, 30853\, Region Hannover\, Deutschland
GEO:52.44008;9.748576
X-APPLE-STRUCTURED-LOCATION;VALUE=URI;X-ADDRESS=Konrad-Adenauer-Str. 33\, L
 angenhagen\, Niedersachsen\, 30853\, Region Hannover\, Deutschland;X-APPLE
 -RADIUS=100;X-TITLE=Elia-Kirche:geo:52.44008,9.748576
END:VEVENT
BEGIN:VTIMEZONE
TZID:Europe/Berlin
X-LIC-LOCATION:Europe/Berlin
BEGIN:DAYLIGHT
DTSTART:20260329T030000
TZOFFSETFROM:+0100
TZOFFSETTO:+0200
TZNAME:CEST
END:DAYLIGHT
END:VTIMEZONE
END:VCALENDAR