BEGIN:VCALENDAR
VERSION:2.0
PRODID:-//wp-events-plugin.com//7.2.3.1//EN
TZID:Europe/Berlin
X-WR-TIMEZONE:Europe/Berlin
BEGIN:VEVENT
UID:13011@elia-kirchengemeinde.de
DTSTART;TZID=Europe/Berlin:20260511T160000
DTEND;TZID=Europe/Berlin:20260511T171500
DTSTAMP:20260423T060404Z
URL:https://www.elia-kirchengemeinde.de/veranstaltungen/maikonzert-2026/
SUMMARY:Maikonzert mit Fritz Baltruweit
DESCRIPTION:Fritz Baltruweit (*1955) ist Pastor i.R.\, Liedermacher und Aut
 or. Er ist vor allem bekannt für seine modernen geistlichen Lieder\, die 
 häufig in Gottesdiensten und auf Kirchentagen gesungen werden.\n\nEr brin
 gt eigene Lieder mit\, aber auch bekannte\, die mitgesungen werden können
 .\n\nDer Eintritt ist frei. Am Ausgang sammeln wir eine Spende für die Ar
 beit unserer Gemeinde.
ATTACH;FMTTYPE=image/jpeg:https://www.elia-kirchengemeinde.de/wp-content/u
 ploads/2026/04/FritzValentin-Foto-Beate-Schoolmann-e1776924170446.jpg
CATEGORIES:Musik,z_Highlight
LOCATION:Elia-Kirche\, Konrad-Adenauer-Str. 33\, Langenhagen\, Niedersachse
 n\, 30853\, Region Hannover\, Deutschland
GEO:52.44008;9.748576
X-APPLE-STRUCTURED-LOCATION;VALUE=URI;X-ADDRESS=Konrad-Adenauer-Str. 33\, L
 angenhagen\, Niedersachsen\, 30853\, Region Hannover\, Deutschland;X-APPLE
 -RADIUS=100;X-TITLE=Elia-Kirche:geo:52.44008,9.748576
END:VEVENT
BEGIN:VTIMEZONE
TZID:Europe/Berlin
X-LIC-LOCATION:Europe/Berlin
BEGIN:DAYLIGHT
DTSTART:20260329T030000
TZOFFSETFROM:+0100
TZOFFSETTO:+0200
TZNAME:CEST
END:DAYLIGHT
END:VTIMEZONE
END:VCALENDAR