BEGIN:VCALENDAR
VERSION:2.0
PRODID:-//wp-events-plugin.com//7.2.3.1//EN
TZID:Europe/Berlin
X-WR-TIMEZONE:Europe/Berlin
BEGIN:VEVENT
UID:13006@elia-kirchengemeinde.de
DTSTART;TZID=Europe/Berlin:20260720T090000
DTEND;TZID=Europe/Berlin:20260724T150000
DTSTAMP:20260418T191612Z
URL:https://www.elia-kirchengemeinde.de/veranstaltungen/musica-woche-in-el
 ia-2026/
SUMMARY:Musical-Woche in Elia
DESCRIPTION:Eine Woche lang singen\, spielen und Spaß haben: Bei unserer S
 ommerferienaktion wird es in diesem Jahr musikalisch. Gemeinsam wollen wir
  das Musical „Der barmherzige Samariter“ einüben und in einem Familie
 ngottesdienst aufführen.\n\nDaneben gibt es ein buntes Rahmenprogramm mit
  Spielen\, Bastelaktionen\, gemeinsamen Mittagessen und vielem mehr.\n\nDa
 s Vorbereitungsteam freut sich auf euch!\nZeitraum\nMontag – Freitag\, 2
 0. – 24.07.2026\, 09:00 – 15:00 Uhr\n(Bringen ab 08:30 Uhr möglich | 
 Abholen bis 15:30 Uhr)\n\nSonntag\, 26.07.2026\, 10:00 Uhr: Aufführung im
  Familiengottesdienst\n\nWer (bspw. wegen einer Reise) bei der Aufführung
  nicht dabei sein kann\, kann trotzdem von Montag bis Freitag am Programm 
 und an den Proben teilnehmen.\nWer darf mitmachen?\nAlle Kinder zwischen 6
  und 12 Jahren.\nKosten\n49\,00 Euro inklusive Mittagsimbiss und Getränke
 n\n(mit Regio-S-Karte: 29\,00 Euro - Nachweis erforderlich)\n\n&nbsp\;
ATTACH;FMTTYPE=image/jpeg:https://www.elia-kirchengemeinde.de/wp-content/u
 ploads/2026/01/jon-tyson-i3DzLRvUotU-unsplash-scaled-e1776539752505.jpg
CATEGORIES:Kinder und Familien,z_Highlight,z_Monatsplan-Vorschau
LOCATION:Elia-Kirche\, Konrad-Adenauer-Str. 33\, Langenhagen\, Niedersachse
 n\, 30853\, Region Hannover\, Deutschland
GEO:52.44008;9.748576
X-APPLE-STRUCTURED-LOCATION;VALUE=URI;X-ADDRESS=Konrad-Adenauer-Str. 33\, L
 angenhagen\, Niedersachsen\, 30853\, Region Hannover\, Deutschland;X-APPLE
 -RADIUS=100;X-TITLE=Elia-Kirche:geo:52.44008,9.748576
END:VEVENT
BEGIN:VTIMEZONE
TZID:Europe/Berlin
X-LIC-LOCATION:Europe/Berlin
BEGIN:DAYLIGHT
DTSTART:20260329T030000
TZOFFSETFROM:+0100
TZOFFSETTO:+0200
TZNAME:CEST
END:DAYLIGHT
END:VTIMEZONE
END:VCALENDAR